BEGIN:VCALENDAR
VERSION:2.0
PRODID:-//Artevos GmbH - ECPv6.15.20//NONSGML v1.0//EN
CALSCALE:GREGORIAN
METHOD:PUBLISH
X-WR-CALNAME:Artevos GmbH
X-ORIGINAL-URL:https://artevos.de
X-WR-CALDESC:Veranstaltungen für Artevos GmbH
REFRESH-INTERVAL;VALUE=DURATION:PT1H
X-Robots-Tag:noindex
X-PUBLISHED-TTL:PT1H
BEGIN:VTIMEZONE
TZID:Europe/Berlin
BEGIN:DAYLIGHT
TZOFFSETFROM:+0100
TZOFFSETTO:+0200
TZNAME:CEST
DTSTART:20220327T010000
END:DAYLIGHT
BEGIN:STANDARD
TZOFFSETFROM:+0200
TZOFFSETTO:+0100
TZNAME:CET
DTSTART:20221030T010000
END:STANDARD
BEGIN:DAYLIGHT
TZOFFSETFROM:+0100
TZOFFSETTO:+0200
TZNAME:CEST
DTSTART:20230326T010000
END:DAYLIGHT
BEGIN:STANDARD
TZOFFSETFROM:+0200
TZOFFSETTO:+0100
TZNAME:CET
DTSTART:20231029T010000
END:STANDARD
BEGIN:DAYLIGHT
TZOFFSETFROM:+0100
TZOFFSETTO:+0200
TZNAME:CEST
DTSTART:20240331T010000
END:DAYLIGHT
BEGIN:STANDARD
TZOFFSETFROM:+0200
TZOFFSETTO:+0100
TZNAME:CET
DTSTART:20241027T010000
END:STANDARD
END:VTIMEZONE
BEGIN:VEVENT
DTSTART;TZID=Europe/Berlin:20230818T090000
DTEND;TZID=Europe/Berlin:20230818T120000
DTSTAMP:20260419T230308
CREATED:20230815T140011Z
LAST-MODIFIED:20230815T152417Z
UID:6056-1692349200-1692360000@artevos.de
SUMMARY:Apfeltag Klein Altendorf 2023
DESCRIPTION:DES DLR RHEINPFALZ UND DER UNI BONN\nINFORMATIONSTAG \nAm 18.08.2023 findet in Klein Altendorf der alljährliche Apfeltag statt. Das sind die Themen: Bewässerungssensoren\, mechanischen Bodenbearbeitung\, Kühlmanagement\, Agri-PV\, Versuchsvorstellungen Erziehungssysteme\, Birnenanbau und vieles mehr. \n  \nAuch die Artevos ist vor Ort mit einem Stand und präsentiert Obstneuheiten mit Verkostung und berät Sie im Erfahrungsaustausch zur Sortenauswahl und zu Erziehungssystemen\, Pflanzenschutz und Anbautipps. \n\nPROGRAMM\nHier geht es zum Programmflyer mit allen Infos zur Veranstaltung. \n\nANMELDUNG ZUR VERANSTALTUNG\nFür Besucher ist keine Anmeldung erforderlich für Aussteller gibt es eine Online-Anmeldung\, siehe Programmflyer. \n\nSIE HABEN FRAGEN?\nZögern Sie bitte nicht uns zu kontaktieren:\nArtevos GmbH – info@artevos.de – 0761-120 92 80\nUnserem Obstbauberater vor Ort: Aleksandar Krdzic 00491719752942 \n\nWir freuen uns auf Sie!\nIhr Artevos-Team
URL:https://artevos.de/event/apfeltag-klein-altendorf-2023/
LOCATION:DLR Rheinpfalz Universität Bonn\, Campus Klein-Altendorf\, Rheinbach\, 53359\, Deutschland
CATEGORIES:Events DE Erwerb
ATTACH;FMTTYPE=image/jpeg:https://artevos.de/wp-content/uploads/2023/08/220805_Apfeltag2022.jpg
END:VEVENT
END:VCALENDAR