BEGIN:VCALENDAR
VERSION:2.0
PRODID:-//Artevos GmbH - ECPv6.15.20//NONSGML v1.0//EN
CALSCALE:GREGORIAN
METHOD:PUBLISH
X-WR-CALNAME:Artevos GmbH
X-ORIGINAL-URL:https://artevos.de
X-WR-CALDESC:Veranstaltungen für Artevos GmbH
REFRESH-INTERVAL;VALUE=DURATION:PT1H
X-Robots-Tag:noindex
X-PUBLISHED-TTL:PT1H
BEGIN:VTIMEZONE
TZID:Europe/Berlin
BEGIN:DAYLIGHT
TZOFFSETFROM:+0100
TZOFFSETTO:+0200
TZNAME:CEST
DTSTART:20230326T010000
END:DAYLIGHT
BEGIN:STANDARD
TZOFFSETFROM:+0200
TZOFFSETTO:+0100
TZNAME:CET
DTSTART:20231029T010000
END:STANDARD
BEGIN:DAYLIGHT
TZOFFSETFROM:+0100
TZOFFSETTO:+0200
TZNAME:CEST
DTSTART:20240331T010000
END:DAYLIGHT
BEGIN:STANDARD
TZOFFSETFROM:+0200
TZOFFSETTO:+0100
TZNAME:CET
DTSTART:20241027T010000
END:STANDARD
BEGIN:DAYLIGHT
TZOFFSETFROM:+0100
TZOFFSETTO:+0200
TZNAME:CEST
DTSTART:20250330T010000
END:DAYLIGHT
BEGIN:STANDARD
TZOFFSETFROM:+0200
TZOFFSETTO:+0100
TZNAME:CET
DTSTART:20251026T010000
END:STANDARD
END:VTIMEZONE
BEGIN:VEVENT
DTSTART;TZID=Europe/Berlin:20240814T180000
DTEND;TZID=Europe/Berlin:20240814T190000
DTSTAMP:20260420T171849
CREATED:20240708T131305Z
LAST-MODIFIED:20240731T091739Z
UID:7242-1723658400-1723662000@artevos.de
SUMMARY:AFTER-WORK-VERKOSTUNG FRÜHÄPFEL & ZWETSCHGEN
DESCRIPTION:EINLADUNG ZUR ONLINEVERKOSTUNG\n\nAFTER-WORK-VERKOSTUNG – FRÜHÄPFEL & ZWETSCHGEN \nAm 14.08.2024 findet die Verkostung um 18 Uhr online ausschließlich für Fachleute statt. \nBei Verkostungen im Winter kommen die Frühäpfel und Zwetschgen immer zu kurz. Deshalb möchten wir Ihnen jetzt die Gelegenheit geben\, sich im Sommer einen Über-blick über unsere Neuheiten zu verschaffen und das ganz bequem\, von zu Hause aus. \n  \n\nBLIND DATE MIT OBSTNEUHEITEN – DAS ERWARTET SIE\nWenige Tage vor der Verkostung erhalten Sie ein Paket mit unseren Früchten direkt per Post. Jede Zuchtnummer/ Sorte ist mit einer Nummer versehen\, denn wir möchten die Verkostung gemeinsam in einer Blindprobe durchführen. Während des Online-Meetings stellen wir Ihnen einen Link zu einer Umfrage bereit\, bei der Sie die einzelnen Früchte basierend auf wenigen\, aber wesentlichen Kriterien bewerten können. Die Umfrage ist unkompliziert und Ihre Einschätzungen tragen dazu bei\, am Ende ein umfassendes Gesamtergebnis aller Teilnehmer zu erstellen. \nNach Aufdeckung der Verkostungsergebnisse lüften wir das Geheimnis und somit die Zuchtnummern / Sorten hinter den verborgenen Nummern und geben eine kurze Beschreibung zu deren Eigenschaften. Natürlich gibt es anschließend auch noch genügend Raum für Diskussionen\, Austausch und Ihre Fragen. Freuen Sie sich auf ein kurzweilige\, inspirierende und genussvolle Onlineveranstaltung mit Informationen zu Sortenneuheiten! \nDie Anzahl der Teilnehmer ist begrenzt – eine schnelle Anmeldung lohnt sich! \n\nANMELDUNG ZUR ONLINE-VERKOSTUNG:\nBitte senden Sie uns eine kurze E-Mail an info@artevos.de \noder per Fax +49 (0)761 509950 mit folgenden Daten: \n\nName der Veranstaltung\nIhrem Vor- und Nachnamen\nIhr Unternehmen\nIhre Adresse (Straße\, PLZ\, Ort)\ndie Personenanzahl\nIhre E-Mail-Adresse\n\n  \nSie haben Fragen?\nZögern Sie bitte nicht uns zu kontaktieren:\nArtevos GmbH – info@artevos.de – 0761-120 92 80 \n  \nSIE HABEN FRAGEN?\nZögern Sie bitte nicht uns zu kontaktieren:\nArtevos GmbH – info@artevos.de – 0761-120 92 80 \n\n 
URL:https://artevos.de/event/after-work-verkostung-fruehaepfel-zwetschgen/
CATEGORIES:Events DE Erwerb
ATTACH;FMTTYPE=image/jpeg:https://artevos.de/wp-content/uploads/2023/05/230517_Events.jpg
ORGANIZER;CN="Artevos":MAILTO:info@artevos.de
END:VEVENT
END:VCALENDAR